BEGIN:VCALENDAR
VERSION:2.0
PRODID:-//Institut Jacques Monod - ECPv6.15.20//NONSGML v1.0//EN
CALSCALE:GREGORIAN
METHOD:PUBLISH
X-ORIGINAL-URL:https://www.ijm.fr/?lang=en
X-WR-CALDESC:Events for Institut Jacques Monod
REFRESH-INTERVAL;VALUE=DURATION:PT1H
X-Robots-Tag:noindex
X-PUBLISHED-TTL:PT1H
BEGIN:VTIMEZONE
TZID:Europe/Paris
BEGIN:DAYLIGHT
TZOFFSETFROM:+0100
TZOFFSETTO:+0200
TZNAME:CEST
DTSTART:20240331T010000
END:DAYLIGHT
BEGIN:STANDARD
TZOFFSETFROM:+0200
TZOFFSETTO:+0100
TZNAME:CET
DTSTART:20241027T010000
END:STANDARD
BEGIN:DAYLIGHT
TZOFFSETFROM:+0100
TZOFFSETTO:+0200
TZNAME:CEST
DTSTART:20250330T010000
END:DAYLIGHT
BEGIN:STANDARD
TZOFFSETFROM:+0200
TZOFFSETTO:+0100
TZNAME:CET
DTSTART:20251026T010000
END:STANDARD
BEGIN:DAYLIGHT
TZOFFSETFROM:+0100
TZOFFSETTO:+0200
TZNAME:CEST
DTSTART:20260329T010000
END:DAYLIGHT
BEGIN:STANDARD
TZOFFSETFROM:+0200
TZOFFSETTO:+0100
TZNAME:CET
DTSTART:20261025T010000
END:STANDARD
END:VTIMEZONE
BEGIN:VEVENT
DTSTART;VALUE=DATE:20250706
DTEND;VALUE=DATE:20250713
DTSTAMP:20260424T164713
CREATED:20250121T110058Z
LAST-MODIFIED:20250403T140159Z
UID:26710-1751760000-1752364799@www.ijm.fr
SUMMARY:Mechanobiology Conference III 2025
DESCRIPTION:The conference “Mechanobiology Conference III: From Fundamental Research to Applications” that will be held at the conference center in ICISE Quy Nhon\, central Vietnam on July 06-12\, 2025. Three members of the IJM team\, Benoit Ladoux\, René-Marc Mége and Wang Xi\, are part of the Organizing Committee. \nPlease visit the website or check out the flyer for more information. \nThe registration and abstract submission is now open. Students and postdocs are strongly encouraged to submit their work for oral or poster contributions. A limited number of travel grants for students and postdocs will be considered upon request. \nSome important dates are: \n\n30 April: Deadline for abstract submission.\n23 May: Deadline for early bird registration.\n06 June: Deadline for standard registration.\n\nThe conference will focus on the latest advances in mechanobiology\, with topics including\, but not limited to: \n\n Cell/Molecular signaling\n Disease Development and Biomedical applications\n Morphogenesis and multicellular processes\n Biomaterials/Bioengineering\n Single-cell migration\n Theoretical biophysics\n\nIf you have any further questions\, please do not hesitate to contact: \n\nAdministrative and logistic information: Thao Do\, rencontres.vietnam@gmail.com\nScientific program:  Wang Xi\, wang.xi@ijm.fr and Carles Blanch carles.blanch-mercader@curie.fr
URL:https://www.ijm.fr/event/mechanobiology-conference-iii-2025/?lang=en
LOCATION:ICISE Quy Nhon\, Vietnam\, 7 Đại lộ Khoa học\, khu vực 2\,\, Quy Nhơn\, Bình Định\,\, Viet Nam
ATTACH;FMTTYPE=image/jpeg:https://www.ijm.fr/wp-content/uploads/2025/01/vietnam-scaled.jpg
END:VEVENT
BEGIN:VEVENT
DTSTART;TZID=Europe/Paris:20250707T080000
DTEND;TZID=Europe/Paris:20250707T140000
DTSTAMP:20260424T164713
CREATED:20250623T134032Z
LAST-MODIFIED:20250623T134032Z
UID:28488-1751875200-1751896800@www.ijm.fr
SUMMARY:PhD thesis defense - Safia El Jailani
DESCRIPTION:Safia El Jailani (Wassmann Lab) will defense her PhD thesis on Monday\, July 7th: \nMechanisms ensuring tight control of cohesin cleavage to prevent aneuploidies in oocytes \n  \nThe defense will take place in English in the Alan Turing amphitheater (Bâtiment Sophie Germain) Place Aurélie Nemours\, 75013 Paris). \nThe jury will be composed of: \n\nJulien Dumont\nMarie-Hélène Verlhac\nAdele Marston\nAnthi Karaiskou\nAndreas Boland
URL:https://www.ijm.fr/event/phd-thesis-defense-safia-el-jailani/?lang=en
LOCATION:Amphithéâtre Alan Turing – Bâtiment Sophie Germain\, 8 place Aurélie Nemours\, Paris\, 75013\, France
ATTACH;FMTTYPE=image/jpeg:https://www.ijm.fr/wp-content/uploads/2025/06/These-bandeau-Safia-El-Jailani-scaled.jpg
END:VEVENT
BEGIN:VEVENT
DTSTART;TZID=Europe/Paris:20250708T114500
DTEND;TZID=Europe/Paris:20250708T130000
DTSTAMP:20260424T164713
CREATED:20250603T131610Z
LAST-MODIFIED:20250603T131610Z
UID:28329-1751975100-1751979600@www.ijm.fr
SUMMARY:Institut Jacques Monod Seminar - Adèle Marston
DESCRIPTION:Invited by the Wassmann lab\, Professor Adele L. Marston (Centre for Cell Biology\, University of Edinburgh) will present an Institut Jacques Monod seminar on the theme: \nFunctional organisation of pericentromeres in mitosis and meiosis \nAbstract: \nOur overall goal is to understand how cells inherit the correct number of chromosomes during mitosis and meiosis. Deviations in chromosome number\, called aneuploidy\, are a hallmark of cancer and cause birth defects\, miscarriages and infertility. Mitosis generates genetically identical daughter cells by evenly segregating the sister chromatids. Meiosis partitions half the genome into gametes through two consecutive segregation events: homologs segregate in meiosis-I\, followed by sister chromatids in meiosis-II. Meiosis is especially error-prone: around 1% of human sperm and up to 30% of oocytes are aneuploid. To discover molecular mechanisms\, we exploit the tractability of yeast\, combined with work in frog\, mouse and human oocytes. Our approach is guided by the research question\, leading to the employment and development of a wide range of cell biological\, genomic\, proteomic and biochemical assays. Our group discovered unanticipated roles for pericentromeres\, discrete chromosomal domains flanking centromeres\, and specialised functions for kinetochores in orienting chromosomes to ensure accurate segregation. In my seminar I will discuss our recent work revealing how pericentromere organization directs accurate chromosome segregation in mitosis and meiosis\, in both yeast and oocytes.
URL:https://www.ijm.fr/event/institut-jacques-monod-seminar-adele-marston/?lang=en
LOCATION:Institut Jacques Monod Salle François Jacob\, 15 rue Hélène Brion\, Paris\, 75013\, France
ATTACH;FMTTYPE=image/jpeg:https://www.ijm.fr/wp-content/uploads/2025/06/Bandeau-web-seminar-Adele-Marston-scaled.jpg
END:VEVENT
BEGIN:VEVENT
DTSTART;TZID=Europe/Paris:20250711T114500
DTEND;TZID=Europe/Paris:20250711T130000
DTSTAMP:20260424T164713
CREATED:20250612T114114Z
LAST-MODIFIED:20250612T114114Z
UID:28409-1752234300-1752238800@www.ijm.fr
SUMMARY:Institut Jacques Monod Lecture - Gijsje Koenderink
DESCRIPTION:On July 11th\, Gijsje Koenderink (Department of Bionanoscience\, Kavli Institute of Nanoscience Delft\, Delft University of Technology) will present an Institut Jacques Monod lecture on the theme: \nHow cytoskeletal crosstalk makes cells strong \nAbstract: \nOur bodies are built up of cells and tissues with unique physical properties. Cells and tissues are dynamic but also need to withstand large mechanical loads. This paradoxical mechanical behavior is governed by fibrous protein scaffolds known as the cytoskeleton and the extracellular matrix. Fibrous networks have many advantageous mechanical properties: fibers can form space-filling elastic networks at low volume fractions and they reversibly stress-stiffen\, which provides protection from damage. However\, it is still poorly understood how biopolymer networks can combine these features with the ability to dynamically adapt their structure and mechanics. In this seminar I will focus on the cytoskeleton: how can the cytoskeleton combine mechanical strength with the ability to dynamically adapt its structure and mechanics? I will summarize our recent insights in this question obtained via quantitative measurements on living cells coupled with experiments on cell-free model systems. I will focus on the role of mechanical crosstalk between the actin\, intermediate filament\, and septin cytoskeletal networkds\, three key determinants of cell mechanics. These three filamentous systems contribute different structural and dynamical properties\, but their activities are closely coordinated. I will show that combining cell and cell-free assays allows us to dissect the collaborative and individual roles of the cytoskeletal systems. Our findings may eventually be interesting to guide the search for selective anticancer drugs\, since cancer cells often overexpress specific intermediate filaments or septins leading to abnormal mechanical behaviors.
URL:https://www.ijm.fr/event/institut-jacques-monod-lecture-gijsje-koenderink/?lang=en
LOCATION:Institut Jacques Monod Amphithéâtre Buffon\, 15 rue Hélène Brion\, Paris\, 75013\, France
ATTACH;FMTTYPE=image/jpeg:https://www.ijm.fr/wp-content/uploads/2025/06/bandeau-IJM-Lectures-Gijsje-Koenderink-scaled.jpg
END:VEVENT
END:VCALENDAR