BEGIN:VCALENDAR
VERSION:2.0
PRODID:-//Institut Jacques Monod - ECPv6.15.20//NONSGML v1.0//EN
CALSCALE:GREGORIAN
METHOD:PUBLISH
X-WR-CALNAME:Institut Jacques Monod
X-ORIGINAL-URL:https://www.ijm.fr/?lang=en
X-WR-CALDESC:Events for Institut Jacques Monod
REFRESH-INTERVAL;VALUE=DURATION:PT1H
X-Robots-Tag:noindex
X-PUBLISHED-TTL:PT1H
BEGIN:VTIMEZONE
TZID:Europe/Paris
BEGIN:DAYLIGHT
TZOFFSETFROM:+0100
TZOFFSETTO:+0200
TZNAME:CEST
DTSTART:20240331T010000
END:DAYLIGHT
BEGIN:STANDARD
TZOFFSETFROM:+0200
TZOFFSETTO:+0100
TZNAME:CET
DTSTART:20241027T010000
END:STANDARD
BEGIN:DAYLIGHT
TZOFFSETFROM:+0100
TZOFFSETTO:+0200
TZNAME:CEST
DTSTART:20250330T010000
END:DAYLIGHT
BEGIN:STANDARD
TZOFFSETFROM:+0200
TZOFFSETTO:+0100
TZNAME:CET
DTSTART:20251026T010000
END:STANDARD
BEGIN:DAYLIGHT
TZOFFSETFROM:+0100
TZOFFSETTO:+0200
TZNAME:CEST
DTSTART:20260329T010000
END:DAYLIGHT
BEGIN:STANDARD
TZOFFSETFROM:+0200
TZOFFSETTO:+0100
TZNAME:CET
DTSTART:20261025T010000
END:STANDARD
END:VTIMEZONE
BEGIN:VEVENT
DTSTART;TZID=Europe/Paris:20250505T140000
DTEND;TZID=Europe/Paris:20250505T150000
DTSTAMP:20260424T200952
CREATED:20250429T084034Z
LAST-MODIFIED:20250429T084034Z
UID:27972-1746453600-1746457200@www.ijm.fr
SUMMARY:Institut Jacques Monod Seminar - Sumin Jang
DESCRIPTION:Invited by the Ribes/Nedelec Lab\, Sumin Jang (Department of Pathology and Cell biology\, Columbia University\, New York\, USA) will present an Institut Jacques Monod seminar on the theme : \nHuman-specific progenitors extend and expand neurogenesis in the spinal cord \n  \nHer research explores the evolution of developmental programs and their implications for the increasing complexity of the human nervous system. \nShe combines single-cell omics with mouse and human organoids\, to investigate these questions. \n  \nSelection of publications: \nIndependent control of neurogenesis and dorsoventral patterning by NKX2-2 Jang S\, Abarinov E\, Dobkin J\, Wichterle H. bioRxiv [Preprint]. 2024 Oct 13:2024.10.13.618113. doi: 10.1101/2024.10.13.618113. PMID: 39415990 Free PMC article. Preprint \nA human-specific progenitor sub-domain extends neurogenesis and increases motor neuron production Jang S\, Gumnit E\, Wichterle H.Nat Neurosci. 2024 Oct;27(10):1945-1953. doi: 10.1038/s41593-024-01739-8. Epub 2024 Aug 29.PMID: 39210067 \nTranscriptional dynamics of murine motor neuron maturation in vivo and in vitro. Patel T\, Hammelman J\, Aziz S\, Jang S\, Closser M\, Michaels TL\, Blum JA\, Gifford DK\, Wichterle H.Nat Commun. 2022 Sep 15;13(1):5427. doi: 10.1038/s41467-022-33022-4.PMID: 36109497Free PMC article. \nAn expansion of the non-coding genome and its regulatory potential underlies vertebrate neuronal diversity. Closser M\, Guo Y\, Wang P\, Patel T\, Jang S\, Hammelman J\, De Nooij JC\, Kopunova R\, Mazzoni EO\, Ruan Y\, Gifford DK\, Wichterle H.Neuron. 2022 Jan 5;110(1):70-85.e6. doi: 10.1016/j.neuron.2021.10.014. Epub 2021 Nov 1.PMID: 34727520Free PMC article.
URL:https://www.ijm.fr/event/institut-jacques-monod-seminar-sumin-jang/?lang=en
LOCATION:Institut Jacques Monod Salle François Jacob\, 15 rue Hélène Brion\, Paris\, 75013\, France
ATTACH;FMTTYPE=image/jpeg:https://www.ijm.fr/wp-content/uploads/2025/04/Bandeau-web-seminar-Sumin-Jang-scaled.jpg
END:VEVENT
BEGIN:VEVENT
DTSTART;TZID=Europe/Paris:20250514T093000
DTEND;TZID=Europe/Paris:20250514T110000
DTSTAMP:20260424T200952
CREATED:20250512T123230Z
LAST-MODIFIED:20250512T123230Z
UID:28082-1747215000-1747220400@www.ijm.fr
SUMMARY:Cytoskeleton club
DESCRIPTION:The next cytoskeleton club meeting will take place on Wednesday\, May 14th at th Institut Jacques Monod: \n\nSandra Carvalho (PhD student \, A. Guichet’s Lab\, Institut Jacques Monod) will talk about:  “How do actin pulses at tricellular AJs provide forces for 3D cell intercalation ?” \nDaniel Plura (PhD student\, F. Robin’s  Lab\,  IBPS) will talk about: “Adaptability of the actomyosin network during C.elegans embryo development”
URL:https://www.ijm.fr/event/cytoskeleton-club-7/?lang=en
LOCATION:Institut Jacques Monod Salle François Jacob\, 15 rue Hélène Brion\, Paris\, 75013\, France
ATTACH;FMTTYPE=image/jpeg:https://www.ijm.fr/wp-content/uploads/2025/05/20250514-bandeau-scaled.jpg
END:VEVENT
BEGIN:VEVENT
DTSTART;TZID=Europe/Paris:20250522T150000
DTEND;TZID=Europe/Paris:20250522T160000
DTSTAMP:20260424T200952
CREATED:20250417T095621Z
LAST-MODIFIED:20250417T095621Z
UID:27854-1747926000-1747929600@www.ijm.fr
SUMMARY:Seminar - Daehan Lee
DESCRIPTION:Invited by the Courtier lab and the Konstantinides Lab\, Daehan Lee (Department of Biological Sciences\, College of Natural Sciences\, Sungkyunkwan University\nSuwon 16419\, Republic of Korea) will present a seminar on the theme: \nEcological Transitions Across Scales: Rewiring Sense\, Losing Sex\, Dodging Death\, and Becoming Complex \nAbstract: \nEcological transitions—changes in the physical\, chemical\, or biotic environment experienced by organisms—can have profound effects on developmental\, physiological\, and evolutionary trajectories. In this seminar\, I will examine how ecological shifts across multiple scales drive remodeling of biological systems\, from gene regulatory networks to life history strategies. Using a set of diverse model organisms\, I will present evidence for ecological transitions as catalysts of evolutionary change: sensory system reorganization during host specialization in Drosophila sechellia; the evolutionary loss of sexual reproduction under laboratory conditions in Caenorhabditis elegans; stage-specific aging and regeneration linked to ecological niches in the life cycle of jellyfish; and the emergence of multicellularity in choanoflagellates in response to environmental and social cues. Together\, these studies illustrate how ecological context shapes the evolution of complexity\, modulates developmental plasticity\, and alters fundamental features of animal biology.
URL:https://www.ijm.fr/event/seminar-daehan-lee/?lang=en
LOCATION:Institut Jacques Monod Salle François Jacob\, 15 rue Hélène Brion\, Paris\, 75013\, France
ATTACH;FMTTYPE=image/jpeg:https://www.ijm.fr/wp-content/uploads/2025/04/Bandeau-web-seminar-Daehan-Lee-scaled.jpg
END:VEVENT
BEGIN:VEVENT
DTSTART;TZID=Europe/Paris:20250523T114500
DTEND;TZID=Europe/Paris:20250523T130000
DTSTAMP:20260424T200952
CREATED:20250415T085222Z
LAST-MODIFIED:20250415T085222Z
UID:27840-1748000700-1748005200@www.ijm.fr
SUMMARY:Institut Jacques Monod Seminar - Frédéric Pincet
DESCRIPTION:Invited by the Romet-Lemonne/Jégou\, Frédéric Pincet (CNRS/ENS-PLS\, Paris) will present an Institut Jacques Monod seminar on the theme: \nThe Dual Role of Golgins in Maintaining Golgi Structure and Mediating Vesicle Traffic \n  \nAbstract: \nThe architecture of the Golgi apparatus is remarkably complex. In mammalian cells\, it is composed of stacks of disk-shaped membrane compartments that are laterally connected to form a ribbon-like structure. These stacks are polarized along the cis-to-trans axis and are embedded within a dense protein matrix\, whose primary components belong to the Golgin protein family. This refined organization is transiently lost during mitosis\, when the Golgi apparatus disperses into small vesicular and tubular remnants. However\, during telophase\, these remnants rapidly reassemble within minutes\, restoring the original architecture and cisternal composition. Even during interphase\, the integrity of the Golgi architecture is continuously challenged by dynamic processes\, including intensive vesicular trafficking both within the Golgi and with neighboring compartments\, as well as by cisternal maturation. As a result\, the Golgi apparatus presents a seemingly paradoxical combination of dynamic plasticity and structural robustness. In this seminar\, I will propose that Golgins act as key regulators balancing this duality. Golgins can function both as vesicle tethers\, facilitating trafficking\, and as structural scaffolds\, promoting the spontaneous organization of the Golgi matrix. We tested this hypothesis using a combination of in vitro biophysical and biochemical assays\, as well as super-resolution imaging of Golgin localization. Our results show that Golgins can self-assemble into two-dimensional condensates exhibiting a hierarchical set of interactions correlated with Golgi organization. Simultaneously\, Golgins and their condensates are capable of specifically tethering vesicles\, thus maintaining efficient vesicular trafficking within the matrix.
URL:https://www.ijm.fr/event/institut-jacques-monod-seminar-frederic-pincet/?lang=en
LOCATION:Institut Jacques Monod Salle François Jacob\, 15 rue Hélène Brion\, Paris\, 75013\, France
ATTACH;FMTTYPE=image/jpeg:https://www.ijm.fr/wp-content/uploads/2025/04/Bandeau-web-seminar-Frederic-Pincet-scaled.jpg
END:VEVENT
BEGIN:VEVENT
DTSTART;TZID=Europe/Paris:20250523T140000
DTEND;TZID=Europe/Paris:20250523T170000
DTSTAMP:20260424T200952
CREATED:20250429T132943Z
LAST-MODIFIED:20250429T132943Z
UID:27977-1748008800-1748019600@www.ijm.fr
SUMMARY:Authorization to supervise research (HDR) - Isabelle Becam
DESCRIPTION:Isabelle Becam (Conduit Lab) will defend his Authorization to supervise research (HDR): \n“Hétérogénéité dans la formation des microtubules et son rôle fonctionnel dans les cellules” \n  \nThe defense will take place on Friday\, May 23 in François Jacob room. \nThe jury will be composed of: \n\nAgnès Audibert\, Rapporteur\nGisela d’Angelo\, Rapporteur\nVeronique Marthiens\, Rapporteur\nAlexandre Baffet\, Examinateur\nCarsten Janke\, Examinateur
URL:https://www.ijm.fr/event/authorization-to-supervise-research-hdr-isabelle-becam/?lang=en
LOCATION:Institut Jacques Monod Salle François Jacob\, 15 rue Hélène Brion\, Paris\, 75013\, France
ATTACH;FMTTYPE=image/jpeg:https://www.ijm.fr/wp-content/uploads/2025/04/HDR-bandeau-Isabelle-Becam-scaled.jpg
END:VEVENT
END:VCALENDAR